Workbook

Sheet PREHLED_2022 KO
A2: Přehled odpadů v obci Mutkov rok 2022
A4: kód odpadu | D4: 200101 | F4: 200301 | H4: 200139 | J4: 200102 | L4: 150104
A5: Datum | B5: Firma | C5: Kč celkem | D5: Papír a lepenka tuny | E5: Papír a lepenka Kč | F5: SKO tuny | G5: SKO Kč | H5: Plast tuny | I5: Plast Kč | J5: Sklo tuny | K5: Sklo Kč | L5: Kov tuny | M5: Kov Kč
A6: 31.01.2022 | B6: Marius Pedersen a.s. | C6: =E6+G6+I6+K6+M6 -> 2964.97 | D6: 0.07 | E6: 0 | F6: 0.82 | G6: 2579.02 | H6: 0.06 | I6: 110.4 | J6: 0 | K6: 275.55 | L6: 0 | M6: 0
A7: 28.02.2022 | B7: Marius Pedersen a.s. | C7: =E7+G7+I7+K7+M7 -> 3314.57 | D7: 0.05 | E7: 0 | F7: 1.005 | G7: 2579.02 | H7: 0.25 | I7: 460 | J7: 0 | K7: 275.55 | L7: 0 | M7: 0
A8: 31.03.2022 | B8: Marius Pedersen a.s. | C8: =E8+G8+I8+K8+M8 -> 3259.37 | D8: 0.05 | E8: 0 | F8: 0.98 | G8: 2579.02 | H8: 0.22 | I8: 404.8 | J8: 0 | K8: 275.55 | L8: 0 | M8: 0
A9: 30.04.2022 | B9: Marius Pedersen a.s. | C9: =E9+G9+I9+K9+M9 -> 3167.37 | D9: 0.07 | E9: 0 | F9: 1.24 | G9: 2579.02 | H9: 0.17 | I9: 312.8 | J9: 0 | K9: 275.55 | L9: 0 | M9: 0
A10: 31.05.2022 | B10: Marius Pedersen a.s. | C10: =E10+G10+I10+K10+M10 -> 3204.17 | D10: 0.12 | E10: 0 | F10: 2.16 | G10: 2579.02 | H10: 0.19 | I10: 349.6 | J10: 0 | K10: 275.55 | L10: 0 | M10: 0
A11: 30.06.2022 | B11: Marius Pedersen a.s. | C11: =E11+G11+I11+K11+M11 -> 3622.3 | D11: 0.18 | E11: 0 | F11: 0.93 | G11: 2965.87 | H11: 0.18 | I11: 380.88 | J11: 0 | K11: 275.55 | L11: 0 | M11: 0
A12: 31.07.2022 | B12: Obec Bohuňovice | C12: =E12+G12+I12+K12+M12 -> 2858.64 | D12: 0 | E12: 0 | F12: 2.21 | G12: 2858.64 | H12: 0 | I12: 0 | J12: 0 | K12: 0 | L12: 0 | M12: 0
A13: 31.07.2022 | B13: StavRe-Envi s.r.o. | C13: =E13+G13+I13+K13+M13 -> 3656.07 | D13: 0.161 | E13: 197.25 | G13: 2707.59 | H13: 0.169 | I13: 751.23 | J13: 0 | K13: 0 | L13: 0 | M13: 0
A14: 31.08.2022 | B14: Obec Bohuňovice | C14: =E14+G14+I14+K14+M14 -> 1442.25 | D14: 0 | E14: 0 | F14: 1.115 | G14: 1442.25 | H14: 0 | I14: 0 | J14: 0 | K14: 0 | L14: 0 | M14: 0
A15: 31.08.2022 | B15: StavRe-Envi s.r.o. | C15: =E15+G15+I15+K15+M15 -> 4261.08 | D15: 0.264 | E15: 513.19 | G15: 2167.45 | H15: 0.291 | I15: 1502.69 | J15: 0 | K15: 0 | L15: 0.04 | M15: 77.75
A16: 30.09.2022 | B16: Obec Bohuňovice | C16: =E16+G16+I16+K16+M16 -> 1526.33 | D16: 0 | E16: 0 | F16: 1.18 | G16: 1526.33 | H16: 0 | I16: 0 | J16: 0 | K16: 0 | L16: 0 | M16: 0
A17: 30.09.2022 | B17: StavRe-Envi s.r.o. | C17: =E17+G17+I17+K17+M17 -> 3939.1 | D17: 0.147 | E17: 280.35 | G17: 2250.38 | H17: 0.191 | I17: 979.27 | J17: 0.225 | K17: 429.1 | L17: 0 | M17: 0
A18: 31.10.2022 | B18: Obec Bohuňovice | C18: =E18+G18+I18+K18+M18 -> 1620.76 | D18: 0 | E18: 0 | F18: 1.253 | G18: 1620.76 | H18: 0 | I18: 0 | J18: 0 | K18: 0 | L18: 0 | M18: 0
A19: 31.10.2022 | B19: StavRe-Envi s.r.o. | C19: =E19+G19+I19+K19+M19 -> 4934.49 | D19: 0.131 | E19: 555.01 | G19: 3147.16 | H19: 0.215 | I19: 1232.32 | J19: 0 | K19: 0 | L19: 0 | M19: 0
A20: 30.11.2022 | B20: Obec Bohuňovice | C20: =E20+G20+I20+K20+M20 -> 2462.35 | D20: 0 | E20: 0 | F20: 1.454 | G20: 2462.35 | H20: 0 | I20: 0 | J20: 0 | K20: 0 | L20: 0 | M20: 0
A21: 30.11.2022 | B21: StavRe-Envi s.r.o. | C21: =E21+G21+I21+K21+M21 -> 4518.2 | D21: 0.134 | E21: 498.02 | G21: 2895.73 | H21: 0.155 | I21: 807.79 | J21: 0.159 | K21: 316.66 | L21: 0 | M21: 0
A22: 31.12.2022 | B22: Obec Bohuňovice | C22: =E22+G22+I22+K22+M22 -> 4086.42 | D22: 0 | E22: 0 | F22: 2.413 | G22: 4086.42 | H22: 0 | I22: 0 | J22: 0 | K22: 0 | L22: 0 | M22: 0
A23: 31.12.2022 | B23: StavRe-Envi s.r.o. | C23: =E23+G23+I23+K23+M23 -> 4468.63 | D23: 0.146 | E23: 439.12 | G23: 3095.01 | H23: 0.199 | I23: 896.02 | J23: 0 | K23: 0 | L23: 0.03 | M23: 38.48
A24: CELKEM | C24: =SUM(C6:C23) -> 59307.07 | D24: =SUM(D6:D23) -> 1.523 | E24: =SUM(E6:E23) -> 2482.94 | F24: =SUM(F6:F23) -> 16.76 | G24: =SUM(G6:G23) -> 46121.04 | H24: =SUM(H6:H23) -> 2.29 | I24: =SUM(I6:I23) -> 8187.8 | J24: =SUM(J6:J23) -> 0.384 | ... M24: =SUM(M6:M23) -> 116.23
A26: Bio odpad
A29: Datum | B29: Firma | C29: Kč celkem | D29: Bio odpad tuny | F29: přistavení kontejneru | G29: odvoz kontejneru | H29: pronájem kontejneru | I29: Zpracování
A30: 44701 | B30: STAVEKOGECO s.r.o | C30: 7260 | D30: 8 | I30: 7260
A31: 44885 | B31: STAVEKOGECO s.r.o | C31: 6050 | I31: 6050
A32: celkem rok | C32: =SUM(C30:C31) -> 13310 | D32: =SUM(D30:D31) -> 8 | F32: =SUM(F30:F31) -> 0 | G32: =SUM(G30:G31) -> 0 | H32: =SUM(H30:H31) -> 0 | I32: =SUM(I30:I31) -> 13310

Sheet PREHLED 2022 OSTATNI
C2: 130205 N | G2: 160103 O | I2: 160506 N | K2: 200127 N | M2: 200307 O
A3: Datum | B3: Firma | C3: Nechl.min. motor. a převodové mazad. tuny | D3: Nechl.min. motor. a převodové mazad. Kč | E3: Obaly obsahující zbytky nebezpečných látek tuny | F3: Obaly obsahující zbytky nebezpečných látek Kč | G3: Pneumatiky tuny | H3: Pneumatiky Kč | I3: Laboratorní chemikálie tuny | J3: Laboratorní chemikálie tuny | K3: Barvy tuny | L3: Barvy Kč | M3: Objemný odpad tuny | N3: Objemný odpad Kč
A4: 29.06.2022 | B4: Marius Pedersen a.s. | C4: 0.03 | D4: 229.55 | E4: 0 | F4: 0 | G4: 0.04 | H4: 185.18 | I4: 0.02 | J4: 607.52 | K4: 0.02 | L4: 367.04 | M4: 0.64 | N4: 8423.71
A5: 44834 | B5: StavRe-envi s.r.o. | C5: 0 | D5: 0 | E5: 0 | F5: 0 | G5: 0 | H5: 0 | I5: 0 | J5: 0 | K5: 0.01 | L5: 2092.52 | M5: 0.015 | N5: 4297.17
A6: CELKEM | C6: =SUM(C4:C5) -> 0.03 | D6: =SUM(D4:D5) -> 229.55 | E6: =SUM(E4:E5) -> 0 | F6: =SUM(F4:F5) -> 0 | G6: =SUM(G4:G5) -> 0.04 | H6: =SUM(H4:H5) -> 185.18 | I6: =SUM(I4:I5) -> 0.02 | J6: =SUM(J4:J5) -> 607.52 | ... N6: =SUM(N4:N5) -> 12720.88
A9: Celkové výdaje a příjmy za odpady v obci rok 2022
B11: VÝDAJE za rok | D11: PŘÍJMY za rok
A12: Papír + plast | B12: ='PREHLED_2022 KO'!I24+'PREHLED_2022 KO'!E24 -> 10670.74 | C12: občané (47) | D12: 28200
A13: BIO | B13: ='PREHLED_2022 KO'!C32 -> 13310 | C13: rekreanti (37) | D13: 22200
A14: Sklo | B14: ='PREHLED_2022 KO'!K24 -> 2399.06
A15: Kov | B15: ='PREHLED_2022 KO'!M24 -> 116.23
A16: Nebezpečný odpad | B16: =D6+J6+L6 -> 3296.63
A17: Ostatní odpad | B17: =H6 -> 185.18
A18: Objemný odpad | B18: =N6 -> 12720.88
A19: SKO | B19: ='PREHLED_2022 KO'!G24 -> 46121.04
A20: CELKEM | B20: =SUM(B12:B19) -> 88819.76 | D20: =SUM(D12:D19) -> 50400
A23: Doplatek obce | D23: =B20-D20 -> 38419.76
A24: Doplatek na občana (47) | D24: =D23/47 -> 817.4417
A25: Doplatek celkem (občan+nemovitost) (47+37) | D25: =D23/(47+37) -> 457.3781
